BEGIN:VCALENDAR
VERSION:2.0
PRODID:-//Santa Barbara Young Professionals Club - ECPv6.15.20//NONSGML v1.0//EN
CALSCALE:GREGORIAN
METHOD:PUBLISH
X-WR-CALNAME:Santa Barbara Young Professionals Club
X-ORIGINAL-URL:https://www.sbypc.org
X-WR-CALDESC:Events for Santa Barbara Young Professionals Club
REFRESH-INTERVAL;VALUE=DURATION:PT1H
X-Robots-Tag:noindex
X-PUBLISHED-TTL:PT1H
BEGIN:VTIMEZONE
TZID:America/Los_Angeles
BEGIN:DAYLIGHT
TZOFFSETFROM:-0800
TZOFFSETTO:-0700
TZNAME:PDT
DTSTART:20230312T100000
END:DAYLIGHT
BEGIN:STANDARD
TZOFFSETFROM:-0700
TZOFFSETTO:-0800
TZNAME:PST
DTSTART:20231105T090000
END:STANDARD
BEGIN:DAYLIGHT
TZOFFSETFROM:-0800
TZOFFSETTO:-0700
TZNAME:PDT
DTSTART:20240310T100000
END:DAYLIGHT
BEGIN:STANDARD
TZOFFSETFROM:-0700
TZOFFSETTO:-0800
TZNAME:PST
DTSTART:20241103T090000
END:STANDARD
BEGIN:DAYLIGHT
TZOFFSETFROM:-0800
TZOFFSETTO:-0700
TZNAME:PDT
DTSTART:20250309T100000
END:DAYLIGHT
BEGIN:STANDARD
TZOFFSETFROM:-0700
TZOFFSETTO:-0800
TZNAME:PST
DTSTART:20251102T090000
END:STANDARD
END:VTIMEZONE
BEGIN:VEVENT
DTSTART;TZID=America/Los_Angeles:20240720T100000
DTEND;TZID=America/Los_Angeles:20240720T120000
DTSTAMP:20260423T003550
CREATED:20240619T001815Z
LAST-MODIFIED:20240719T223911Z
UID:3147-1721469600-1721476800@www.sbypc.org
SUMMARY:SBYPC x KIVA: Career Do's & Donuts
DESCRIPTION:  \n						\n					\n				\n					\n				\n				\n				\n			\n				\n				\n			\n				\n				\n				\n				\n				\n				\n				\n				\n				\n				\n				\n				\n				\n				\n				\n				\n				\n				Here’s what you can expect:• Insights from two seasoned recruiters on acing interviews and perfecting your resume.• Delicious coffee and donuts to keep you energized! \nDon’t miss out on this fantastic opportunity to boost your career prospects. \nHeadshots available for an additional cost.
URL:https://www.sbypc.org/event/sbypc-x-kiva-career-dos-donuts/
LOCATION:Kiva Cowork – State St\, 1117 State St\, Santa Barbara\, CA\, 93101\, United States
END:VEVENT
END:VCALENDAR