BEGIN:VCALENDAR
VERSION:2.0
PRODID:-//Santa Barbara Young Professionals Club - ECPv6.15.20//NONSGML v1.0//EN
CALSCALE:GREGORIAN
METHOD:PUBLISH
X-ORIGINAL-URL:https://www.sbypc.org
X-WR-CALDESC:Events for Santa Barbara Young Professionals Club
REFRESH-INTERVAL;VALUE=DURATION:PT1H
X-Robots-Tag:noindex
X-PUBLISHED-TTL:PT1H
BEGIN:VTIMEZONE
TZID:America/Los_Angeles
BEGIN:DAYLIGHT
TZOFFSETFROM:-0800
TZOFFSETTO:-0700
TZNAME:PDT
DTSTART:20240310T100000
END:DAYLIGHT
BEGIN:STANDARD
TZOFFSETFROM:-0700
TZOFFSETTO:-0800
TZNAME:PST
DTSTART:20241103T090000
END:STANDARD
BEGIN:DAYLIGHT
TZOFFSETFROM:-0800
TZOFFSETTO:-0700
TZNAME:PDT
DTSTART:20250309T100000
END:DAYLIGHT
BEGIN:STANDARD
TZOFFSETFROM:-0700
TZOFFSETTO:-0800
TZNAME:PST
DTSTART:20251102T090000
END:STANDARD
BEGIN:DAYLIGHT
TZOFFSETFROM:-0800
TZOFFSETTO:-0700
TZNAME:PDT
DTSTART:20260308T100000
END:DAYLIGHT
BEGIN:STANDARD
TZOFFSETFROM:-0700
TZOFFSETTO:-0800
TZNAME:PST
DTSTART:20261101T090000
END:STANDARD
END:VTIMEZONE
BEGIN:VEVENT
DTSTART;TZID=America/Los_Angeles:20251008T173000
DTEND;TZID=America/Los_Angeles:20251008T193000
DTSTAMP:20260419T124312
CREATED:20250925T173724Z
LAST-MODIFIED:20250925T174545Z
UID:5698-1759944600-1759951800@www.sbypc.org
SUMMARY:SBYPC October 2025 Mixer
DESCRIPTION:VENUE HOST: High Seas Mead\n\n\nSPONSOR: TBD\nFEATURED NON-PROFIT: Mission Scholars\nATTIRE: Business Casual
URL:https://www.sbypc.org/event/sbypc-october-2025-mixer/
LOCATION:High Seas Mead\, 210 Gray Ave\, Santa Barbara\, CA\, 93101\, United States
END:VEVENT
END:VCALENDAR