BEGIN:VCALENDAR
VERSION:2.0
PRODID:-//Santa Barbara Young Professionals Club - ECPv6.15.20//NONSGML v1.0//EN
CALSCALE:GREGORIAN
METHOD:PUBLISH
X-WR-CALNAME:Santa Barbara Young Professionals Club
X-ORIGINAL-URL:https://www.sbypc.org
X-WR-CALDESC:Events for Santa Barbara Young Professionals Club
REFRESH-INTERVAL;VALUE=DURATION:PT1H
X-Robots-Tag:noindex
X-PUBLISHED-TTL:PT1H
BEGIN:VTIMEZONE
TZID:America/Los_Angeles
BEGIN:DAYLIGHT
TZOFFSETFROM:-0800
TZOFFSETTO:-0700
TZNAME:PDT
DTSTART:20220313T100000
END:DAYLIGHT
BEGIN:STANDARD
TZOFFSETFROM:-0700
TZOFFSETTO:-0800
TZNAME:PST
DTSTART:20221106T090000
END:STANDARD
BEGIN:DAYLIGHT
TZOFFSETFROM:-0800
TZOFFSETTO:-0700
TZNAME:PDT
DTSTART:20230312T100000
END:DAYLIGHT
BEGIN:STANDARD
TZOFFSETFROM:-0700
TZOFFSETTO:-0800
TZNAME:PST
DTSTART:20231105T090000
END:STANDARD
BEGIN:DAYLIGHT
TZOFFSETFROM:-0800
TZOFFSETTO:-0700
TZNAME:PDT
DTSTART:20240310T100000
END:DAYLIGHT
BEGIN:STANDARD
TZOFFSETFROM:-0700
TZOFFSETTO:-0800
TZNAME:PST
DTSTART:20241103T090000
END:STANDARD
END:VTIMEZONE
BEGIN:VTIMEZONE
TZID:UTC
BEGIN:STANDARD
TZOFFSETFROM:+0000
TZOFFSETTO:+0000
TZNAME:UTC
DTSTART:20220101T000000
END:STANDARD
END:VTIMEZONE
BEGIN:VEVENT
DTSTART;TZID=America/Los_Angeles:20230913T173000
DTEND;TZID=America/Los_Angeles:20230913T193000
DTSTAMP:20260419T235530
CREATED:20230820T023317Z
LAST-MODIFIED:20240708T222338Z
UID:592-1694626200-1694633400@www.sbypc.org
SUMMARY:September 2023 Mixer
DESCRIPTION:VENUE HOST: Thank you to Topa Topa & Blair Fox for hosting our event! \nGENEROUS SPONSORS: Thank you to  Amador Matchmaking & The Nook for sponsoring this month’s event. \nFEATURED NON-PROFIT:  We are proud to feature Hearts Aligned as this month’s featured non-profit. \nATTIRE: Business Casual
URL:https://www.sbypc.org/event/september-2023-mixer/
LOCATION:Fox Wine Co\, 120 Santa Barbara St\, Santa Barbara\, CA\, 93101\, United States
END:VEVENT
BEGIN:VEVENT
DTSTART;TZID=UTC:20230809T173000
DTEND;TZID=UTC:20230809T190000
DTSTAMP:20260419T235530
CREATED:20230809T013112Z
LAST-MODIFIED:20240708T222339Z
UID:574-1691602200-1691607600@www.sbypc.org
SUMMARY:August 2023 Mixer
DESCRIPTION:Entry is FREE for SBYPC Members and $15 for Guests  \n(No Cash – Payment by CC accepted at check-in) \nVENUE HOST: Thank you to Rincon Brewery for hosting our event! \nGENEROUS SPONSORS: Thank you to Craft Catering for sponsoring this month’s event. \nFEATURED NON-PROFIT:  We are proud to feature Food Bank as this month’s featured non-profit. \nATTIRE: Business Casual 
URL:https://www.sbypc.org/event/august-2023-mixer/
LOCATION:Rincon Brewery\, 205 Santa Barbara St 93101\, Santa Barbara\, CA\, 93101
END:VEVENT
END:VCALENDAR