BEGIN:VCALENDAR
VERSION:2.0
PRODID:-//Santa Barbara Young Professionals Club - ECPv6.15.20//NONSGML v1.0//EN
CALSCALE:GREGORIAN
METHOD:PUBLISH
X-ORIGINAL-URL:https://www.sbypc.org
X-WR-CALDESC:Events for Santa Barbara Young Professionals Club
REFRESH-INTERVAL;VALUE=DURATION:PT1H
X-Robots-Tag:noindex
X-PUBLISHED-TTL:PT1H
BEGIN:VTIMEZONE
TZID:America/Los_Angeles
BEGIN:DAYLIGHT
TZOFFSETFROM:-0800
TZOFFSETTO:-0700
TZNAME:PDT
DTSTART:20230312T100000
END:DAYLIGHT
BEGIN:STANDARD
TZOFFSETFROM:-0700
TZOFFSETTO:-0800
TZNAME:PST
DTSTART:20231105T090000
END:STANDARD
BEGIN:DAYLIGHT
TZOFFSETFROM:-0800
TZOFFSETTO:-0700
TZNAME:PDT
DTSTART:20240310T100000
END:DAYLIGHT
BEGIN:STANDARD
TZOFFSETFROM:-0700
TZOFFSETTO:-0800
TZNAME:PST
DTSTART:20241103T090000
END:STANDARD
BEGIN:DAYLIGHT
TZOFFSETFROM:-0800
TZOFFSETTO:-0700
TZNAME:PDT
DTSTART:20250309T100000
END:DAYLIGHT
BEGIN:STANDARD
TZOFFSETFROM:-0700
TZOFFSETTO:-0800
TZNAME:PST
DTSTART:20251102T090000
END:STANDARD
END:VTIMEZONE
BEGIN:VEVENT
DTSTART;TZID=America/Los_Angeles:20240110T173000
DTEND;TZID=America/Los_Angeles:20240110T193000
DTSTAMP:20260422T145915
CREATED:20240105T013643Z
LAST-MODIFIED:20240708T222330Z
UID:1163-1704907800-1704915000@www.sbypc.org
SUMMARY:January 2024 SBYPC Mixer
DESCRIPTION:VENUE HOST: Thank you to The Base for hosting our event! \n\n\n\nGENEROUS SPONSORS: Greg Spivak (Optimal Health Coach) \n       Wim Hof breathwork workshop 5:45-6:15 PM. Bring a yoga mat or blanket if desired. \nFEATURED NON-PROFIT: Mosaic Therapy Collective (Physical\, Mental\, and Speech Therapy) \nCATERING: Buena Onda (Empanadas)\, Honest Abe Cider \nATTIRE: Casual/Comfortable
URL:https://www.sbypc.org/event/january-2024-sbypc-mixer/
LOCATION:The Base\, 116 Anacapa Street\, Santa Barbara\, CA\, 93101\, United States
END:VEVENT
END:VCALENDAR