BEGIN:VCALENDAR
VERSION:2.0
PRODID:-//Santa Barbara Young Professionals Club - ECPv6.15.20//NONSGML v1.0//EN
CALSCALE:GREGORIAN
METHOD:PUBLISH
X-ORIGINAL-URL:https://www.sbypc.org
X-WR-CALDESC:Events for Santa Barbara Young Professionals Club
REFRESH-INTERVAL;VALUE=DURATION:PT1H
X-Robots-Tag:noindex
X-PUBLISHED-TTL:PT1H
BEGIN:VTIMEZONE
TZID:America/Los_Angeles
BEGIN:DAYLIGHT
TZOFFSETFROM:-0800
TZOFFSETTO:-0700
TZNAME:PDT
DTSTART:20230312T100000
END:DAYLIGHT
BEGIN:STANDARD
TZOFFSETFROM:-0700
TZOFFSETTO:-0800
TZNAME:PST
DTSTART:20231105T090000
END:STANDARD
BEGIN:DAYLIGHT
TZOFFSETFROM:-0800
TZOFFSETTO:-0700
TZNAME:PDT
DTSTART:20240310T100000
END:DAYLIGHT
BEGIN:STANDARD
TZOFFSETFROM:-0700
TZOFFSETTO:-0800
TZNAME:PST
DTSTART:20241103T090000
END:STANDARD
BEGIN:DAYLIGHT
TZOFFSETFROM:-0800
TZOFFSETTO:-0700
TZNAME:PDT
DTSTART:20250309T100000
END:DAYLIGHT
BEGIN:STANDARD
TZOFFSETFROM:-0700
TZOFFSETTO:-0800
TZNAME:PST
DTSTART:20251102T090000
END:STANDARD
END:VTIMEZONE
BEGIN:VEVENT
DTSTART;TZID=America/Los_Angeles:20240221T173000
DTEND;TZID=America/Los_Angeles:20240221T193000
DTSTAMP:20260422T161942
CREATED:20240126T042915Z
LAST-MODIFIED:20240708T222329Z
UID:1350-1708536600-1708543800@www.sbypc.org
SUMMARY:February 2024 SBYPC Mixer
DESCRIPTION:VENUE HOST: Thank you to Unbearable Skee Lodge for hosting our event!\n\n\nFEATURED NON-PROFIT: The Sea Center\n\nATTIRE: Business Casual\n\n 
URL:https://www.sbypc.org/event/february-2024-sbypc-mixer/
LOCATION:Unbearable Skee Lodge\, 12 W Haley St\, Santa Barbara\, CA\, 93101\, United States
END:VEVENT
END:VCALENDAR